Workbook
Name _1_._Print_Are: #REF!,#REF!
Name _2dcf.p: #REF!
Name _3exis.r: #REF!
Name _noi2002: '[1]2Monthly Price Calculation'!#REF!
Name absrbper: '[2]Input Page'!#REF!
Name AMORT: '[2]Input Page'!#REF!
Name ANA_PRD: '[2]Input Page'!#REF!
Name Apmt: '[1]2Monthly Price Calculation'!#REF!
Name Argus_Base_CF: #REF!
Name Argus_Base_CF_Path: #REF!
Name Argus_Base_Path: '[3]2Assumptions'!#REF!
Name Argus_Existing_CF: #REF!
Name Argus_Existing_CF_Path: #REF!
Name Argus_Existing_Path: '[3]2Assumptions'!#REF!
Name Balance: '[1]2Monthly Price Calculation'!#REF!
Name Base: #REF!
Name capres: '[2]Input Page'!#REF!
Name City: '[2]Input Page'!#REF!
Name Col1ValueStart: #REF!
Name Col2ValueStart: #REF!
Name CREDIT_LOSS: '[2]Input Page'!#REF!
Name CUR_VAC: '[2]Input Page'!#REF!
Name dcf.page: '[1]2Monthly Price Calculation'!#REF!
Name Draft: #REF!
Name EQ.REQ: '[1]2Monthly Price Calculation'!#REF!
Name Excel_File: #REF!
Name exis.rent: '[1]2Monthly Price Calculation'!#REF!
Name Existing: #REF!
Name FileCheck: #REF!
Name Footer: '[2]Input Page'!#REF!
Name INT_RATE: '[2]Input Page'!#REF!
Name Lag: #REF!
Name Lease_Summary: "NRA"
Name LevYield: '[1]2Monthly Price Calculation'!#REF!
Name LOAN: '[1]2Monthly Price Calculation'!#REF!
Name LOAN_CONST: '[2]Input Page'!#REF!
Name LOAN_FEE: '[1]2Monthly Price Calculation'!#REF!
Name LTV: '[1]2Monthly Price Calculation'!#REF!
Name manfee: '[2]Input Page'!#REF!
Name mktrnt: '[2]Input Page'!#REF!
Name NameCheck1: #REF!
Name NameCheck2: #REF!
Name opexpgrwth: '[2]Input Page'!#REF!
Name othinc: '[2]Input Page'!#REF!
Name othincgrwth: '[2]Input Page'!#REF!
Name PJE.page: '[1]2Monthly Price Calculation'!#REF!
Name PJEwith2.page: '[1]2Monthly Price Calculation'!#REF!
Name price: '[1]2Monthly Price Calculation'!#REF!
Name Print_Area_1: '[1]2Monthly Price Calculation'!$A$1:$O$41,'[1]2Monthly Price Calculation'!#REF!
Name Print_Base: #REF!
Name Print_Existing: #REF!
Name Print_Lag: #REF!
Name Record3: #REF!
Name Record3c: #REF!
Name Record3e: #REF!
Name RES_CAP: '[2]Input Page'!#REF!
Name rntgrwth1: '[2]Input Page'!#REF!
Name rntgrwth2: '[2]Input Page'!#REF!
Name rntgrwth3: '[2]Input Page'!#REF!
Name Start_Year: '[2]Input Page'!#REF!

Sheet Solar Net Meter
B1: NET METERING
B2: ASSUMPTIONS | E2: YEAR | G2: 1 | H2: =G2+1 -> 2 | I2: =H2+1 -> 3 | J2: =I2+1 -> 4 | K2: =J2+1 -> 5 | L2: =K2+1 -> 6 | M2: =L2+1 -> 7 | N2: =M2+1 -> 8 | O2: =N2+1 -> 9 | ... Z2: =Y2+1 -> 20
E3: INCOME STATEMENT
B4: Only change cells coloured like this. | E4: REVENUE | G4: ='Solar Net Meter'!M34 -> 2828.0736 | H4: =G4*(1-'Solar Net Meter'!$C25)*(1+'Solar Net Meter'!$C24) -> 2870.2119 | I4: =H4*(1-'Solar Net Meter'!$C25)*(1+'Solar Net Meter'!$C24) -> 2912.9781 | J4: =I4*(1-'Solar Net Meter'!$C25)*(1+'Solar Net Meter'!$C24) -> 2956.3814 | K4: =J4*(1-'Solar Net Meter'!$C25)*(1+'Solar Net Meter'!$C24) -> 3000.4315 | L4: =K4*(1-'Solar Net Meter'!$C25)*(1+'Solar Net Meter'!$C24) -> 3045.1379 | M4: =L4*(1-'Solar Net Meter'!$C25)*(1+'Solar Net Meter'!$C24) -> 3090.5105 | N4: =M4*(1-'Solar Net Meter'!$C25)*(1+'Solar Net Meter'!$C24) -> 3136.5591 | O4: =N4*(1-'Solar Net Meter'!$C25)*(1+'Solar Net Meter'!$C24) -> 3183.2938 | ... Z4: =Y4*(1-'Solar Net Meter'!$C25)*(1+'Solar Net Meter'!$C24) -> 3745.6958
B6: SYSTEM SIZE & CAPITAL COST | E6: Insurance Expense | G6: ='Solar Net Meter'!$C9*'Solar Net Meter'!$C23 -> 16 | H6: ='Solar Net Meter'!$C9*'Solar Net Meter'!$C23 -> 16 | I6: ='Solar Net Meter'!$C9*'Solar Net Meter'!$C23 -> 16 | J6: ='Solar Net Meter'!$C9*'Solar Net Meter'!$C23 -> 16 | K6: ='Solar Net Meter'!$C9*'Solar Net Meter'!$C23 -> 16 | L6: ='Solar Net Meter'!$C9*'Solar Net Meter'!$C23 -> 16 | M6: ='Solar Net Meter'!$C9*'Solar Net Meter'!$C23 -> 16 | N6: ='Solar Net Meter'!$C9*'Solar Net Meter'!$C23 -> 16 | ... Z6: ='Solar Net Meter'!$C9*'Solar Net Meter'!$C23 -> 16
B7: System Design & Supply (kW DC) | C7: 10
B8: Capital Cost per WATT | C8: 1.6 | E8: ENERGY SAVINGS | G8: =G4-G6 -> 2812.0736 | H8: =H4-H6 -> 2854.2119 | I8: =I4-I6 -> 2896.9781 | J8: =J4-J6 -> 2940.3814 | K8: =K4-K6 -> 2984.4315 | L8: =L4-L6 -> 3029.1379 | M8: =M4-M6 -> 3074.5105 | N8: =N4-N6 -> 3120.5591 | ... Z8: =Z4-Z6 -> 3729.6958
B9: Capital Cost (not includiing tax) | C9: =(C7*C8*1000) -> 16000
B10: Total Price of Electricity per kWhr | C10: =(C11+C12)*(1+C13) -> 0.22374 | E10: PAYBACK | F10: =-C9 -> -16000 | G10: =F10+G8 -> -13187.926 | H10: =G10+H8 -> -10333.715 | I10: =H10+I8 -> -7436.7364 | J10: =I10+J8 -> -4496.355 | K10: =J10+K8 -> -1511.9235 | L10: =K10+L8 -> 1517.2144 | M10: =L10+M8 -> 4591.7249
B11: Wholesale Elec. Cost $/kW | C11: 0.138
B12: Elec. Delivery Cost $/kW | C12: 0.06 | E12: WHAT IS IT WORTH? (NPV) | G12: =NPV(F13,F10,G8:Z8) -> 26281.708
B13: Tax on Electricity | C13: 0.13 | E13: Interest Rate | F13: 0.04
B14: Region (Toronto default, see below for alts) | C14: 1264 | E14: Pay off the system cost and reduce the value by the interest rate and you still have a value of | M14: =G12 -> 26281.708
B15: Solar Power Output (kWhr/yr) | C15: =C7*C14 -> 12640 | E15: Increased value of home = | G15: =C9 -> 16000 | H15: + | I15: =G12 -> 26281.708 | J15: = | K15: =C9+G12 -> 42281.708
B16: Avg. House Use/yr of Electricity (kW) | C16: 12000
B17: Avg. House Cost of elec./yr | C17: =+C16*C10 -> 2684.88 | F17: ANTICIPATED AVERAGE ANNUAL SUNSHINE FOR TORONTO AREA (in kWh/m2/day)
B18: Payback Period (yrs) | C18: see when PAYBACK line turns positive
B19: Component Warranties | C19: As per each manufacturer | F19: TORONTO | J19: YEARLY PV ENERGY GENERATED (fixed axis)
F20: Latitude | H20: 43.670 N | J20: Month | K20: Solar Radiation (kWh/m2/day) | L20: AC Energy (kWh) | M20: Energy Value ($)
F21: Longitude | H21: 79.630 W
B22: OPERATING & MAINTENANCE | F22: Elevation | H22: 173 m | J22: Jan | K22: 2.69 | L22: =K22*$H$26*$H$27*31*H$31/180 -> 708.815 | M22: =L22*H$34 -> 158.59027
B23: Insurance | C23: 0.001 | F23: Weather Data | H23: CWEC | J23: Feb | K23: 3.51 | L23: =K23*$H$26*$H$27*28*H$31/180 -> 835.38 | M23: =L23*H$34 -> 186.90792
B24: Annual Price increase (percentage ) | C24: 0.02 | J24: Mar | K24: 3.98 | L24: =K24*$H$26*$H$27*31*H$31/180 -> 1048.73 | M24: =L24*H$34 -> 234.64285
B25: Annual Degradation YOY (percentage ) | C25: 0.005 | F25: PV SYSTEM SPECS | J25: Apr | K25: 4.68 | L25: =K25*$H$26*$H$27*30*H$31/180 -> 1193.4 | M25: =L25*H$34 -> 267.01132
F26: DC Rating (kW) | H26: ='Solar Net Meter'!C7 -> 10 | J26: May | K26: 5.29 | L26: =K26*$H$26*$H$27*31*H$31/180 -> 1393.915 | M26: =L26*H$34 -> 311.87454
B27: OPTIONAL DEBT PROVISION | F27: DC to AC Derate Factor | H27: 0.85 | J27: Jun | K27: 5.48 | L27: =K27*$H$26*$H$27*30*H$31/180 -> 1397.4 | M27: =L27*H$34 -> 312.65428
B28: LTV (in the first year) | C28: 0.65 | F28: AC Rating | H28: =H26*H27 -> 8.5 | J28: Jul | K28: 5.51 | L28: =K28*$H$26*$H$27*31*H$31/180 -> 1451.885 | M28: =L28*H$34 -> 324.84475
B29: Interest Rate on debt (percentage) | C29: 0.04 | F29: Array Type | H29: Fixed Tilt | J29: Aug | K29: 5.23 | L29: =K29*$H$26*$H$27*31*H$31/180 -> 1378.105 | M29: =L29*H$34 -> 308.33721
B30: Amortization ( years ) | C30: 18 | F30: Array Tilt | H30: 30 degrees | J30: Sep | K30: 4.96 | L30: =K30*$H$26*$H$27*30*H$31/180 -> 1264.8 | M30: =L30*H$34 -> 282.98635
F31: Array Azimuth | H31: 180 | J31: Oct | K31: 3.61 | L31: =K31*$H$26*$H$27*31*H$31/180 -> 951.235 | M31: =L31*H$34 -> 212.82932
B32: Regional average yearly kKhr/yr produced from 1kW Solar System | D32: Avg Price $/kW | J32: Nov | K32: 1.95 | L32: =K32*$H$26*$H$27*30*H$31/180 -> 497.25 | M32: =L32*H$34 -> 111.25471
B33: GTA | C33: 1264 | D33: 0.138 | F33: ENERGY PRICE | J33: Dec | K33: 1.97 | L33: =K33*$H$26*$H$27*31*H$31/180 -> 519.095 | M33: =L33*H$34 -> 116.14232
B34: Winnipeg | C34: 1426 | D34: 0.078 | F34: Energy Price | H34: ='Solar Net Meter'!C10 -> 0.22374 | J34: Annual Total | K34: =AVERAGE(K22:K33) -> 4.0716667 | L34: =C15 -> 12640 | M34: =L34*H34 -> 2828.0736
B35: Regina | C35: 1533 | D35: 0.1395 | J35: Solar Radiation Source: PV Watts v1
B36: Calgary | C36: 1473 | D36: 0.1341
B37: Vancouver | C37: 1093 | D37: 0.079
B38: Montreal | C38: 1218 | D38: 0.0706
B39: Halifax | C39: 1191 | D39: 0.1603
B40: St Johns | C40: 1117 | D40: 0.1134
B41: Charlottetown | C41: 1224 | D41: 0.1524
...
